BEGIN:VCALENDAR
VERSION:2.0
PRODID:-//X-Kart - ECPv6.15.20//NONSGML v1.0//EN
CALSCALE:GREGORIAN
METHOD:PUBLISH
X-WR-CALNAME:X-Kart
X-ORIGINAL-URL:https://x-kart.co.uk
X-WR-CALDESC:Events for X-Kart
REFRESH-INTERVAL;VALUE=DURATION:PT1H
X-Robots-Tag:noindex
X-PUBLISHED-TTL:PT1H
BEGIN:VTIMEZONE
TZID:Europe/London
BEGIN:DAYLIGHT
TZOFFSETFROM:+0000
TZOFFSETTO:+0100
TZNAME:BST
DTSTART:20220327T010000
END:DAYLIGHT
BEGIN:STANDARD
TZOFFSETFROM:+0100
TZOFFSETTO:+0000
TZNAME:GMT
DTSTART:20221030T010000
END:STANDARD
BEGIN:DAYLIGHT
TZOFFSETFROM:+0000
TZOFFSETTO:+0100
TZNAME:BST
DTSTART:20230326T010000
END:DAYLIGHT
BEGIN:STANDARD
TZOFFSETFROM:+0100
TZOFFSETTO:+0000
TZNAME:GMT
DTSTART:20231029T010000
END:STANDARD
BEGIN:DAYLIGHT
TZOFFSETFROM:+0000
TZOFFSETTO:+0100
TZNAME:BST
DTSTART:20240331T010000
END:DAYLIGHT
BEGIN:STANDARD
TZOFFSETFROM:+0100
TZOFFSETTO:+0000
TZNAME:GMT
DTSTART:20241027T010000
END:STANDARD
BEGIN:DAYLIGHT
TZOFFSETFROM:+0000
TZOFFSETTO:+0100
TZNAME:BST
DTSTART:20250330T010000
END:DAYLIGHT
BEGIN:STANDARD
TZOFFSETFROM:+0100
TZOFFSETTO:+0000
TZNAME:GMT
DTSTART:20251026T010000
END:STANDARD
END:VTIMEZONE
BEGIN:VEVENT
DTSTART;VALUE=DATE:20240621
DTEND;VALUE=DATE:20240624
DTSTAMP:20260420T123628
CREATED:20240520T144952Z
LAST-MODIFIED:20240520T145617Z
UID:3645-1718928000-1719187199@x-kart.co.uk
SUMMARY:TKC Round 4
DESCRIPTION:
URL:https://x-kart.co.uk/event/tkc-round-4/
LOCATION:Rowrah\, Lakeland Stadium\, Frizington\, CA26 3XU\, United Kingdom
CATEGORIES:2024,TKC
END:VEVENT
BEGIN:VEVENT
DTSTART;VALUE=DATE:20240531
DTEND;VALUE=DATE:20240603
DTSTAMP:20260420T123628
CREATED:20240520T145426Z
LAST-MODIFIED:20240520T145426Z
UID:3649-1717113600-1717372799@x-kart.co.uk
SUMMARY:Superone Round 3
DESCRIPTION:
URL:https://x-kart.co.uk/event/superone-round-3/
LOCATION:Clay Pigeon\, CLAY PIGEON RACEWAY\, Dorset\, DT2 9PW\, United Kingdom
CATEGORIES:2024,Superone
END:VEVENT
BEGIN:VEVENT
DTSTART;VALUE=DATE:20240524
DTEND;VALUE=DATE:20240527
DTSTAMP:20260420T123628
CREATED:20240520T143704Z
LAST-MODIFIED:20240520T143740Z
UID:3639-1716508800-1716767999@x-kart.co.uk
SUMMARY:WMKC Round 3
DESCRIPTION:RACE WEEK – This weekend is Round 3 of the WMKC at Whilton Mill Kart Club with the following drivers:\n\n\n Rylee\n Molly\n Harry\n Riley\n\n\n Lets Go Team\n\n\n\nNone of this would be possible without our business partners:\n SATA Tools UK\n The Motorsport Mentor\n On Track Marketing\n Force Motorsport\n Chemisure.co.uk.co.uk\n Dragon Energy UK
URL:https://x-kart.co.uk/event/wmkc-round-3/
LOCATION:Whilton Mill\, Whilton Locks\, Daventry\, NN11 2NH\, United Kingdom
CATEGORIES:2024,WMKC
ATTACH;FMTTYPE=image/png:https://x-kart.co.uk/wp-content/uploads/2024/05/wmkc-r3.png
END:VEVENT
BEGIN:VEVENT
DTSTART;VALUE=DATE:20231111
DTEND;VALUE=DATE:20231113
DTSTAMP:20260420T123628
CREATED:20231012T084952Z
LAST-MODIFIED:20231102T095228Z
UID:3366-1699660800-1699833599@x-kart.co.uk
SUMMARY:The Gold Cup
DESCRIPTION:
URL:https://x-kart.co.uk/event/the-gold-cup/
LOCATION:Three Sisters Circuit\, Ashton-in-Makerfield\, WN4 8DD
CATEGORIES:2023,Three Sisters
ORGANIZER;CN="MBKC":MAILTO:manbuxkartclub@outlook.com
END:VEVENT
END:VCALENDAR